BEGIN:VCALENDAR
VERSION:2.0
PRODID:-//Washburn Chamber of Commerce - ECPv6.15.20//NONSGML v1.0//EN
CALSCALE:GREGORIAN
METHOD:PUBLISH
X-WR-CALNAME:Washburn Chamber of Commerce
X-ORIGINAL-URL:https://washburnchamber.com
X-WR-CALDESC:Events for Washburn Chamber of Commerce
REFRESH-INTERVAL;VALUE=DURATION:PT1H
X-Robots-Tag:noindex
X-PUBLISHED-TTL:PT1H
BEGIN:VTIMEZONE
TZID:America/Chicago
BEGIN:DAYLIGHT
TZOFFSETFROM:-0600
TZOFFSETTO:-0500
TZNAME:CDT
DTSTART:20230312T080000
END:DAYLIGHT
BEGIN:STANDARD
TZOFFSETFROM:-0500
TZOFFSETTO:-0600
TZNAME:CST
DTSTART:20231105T070000
END:STANDARD
BEGIN:DAYLIGHT
TZOFFSETFROM:-0600
TZOFFSETTO:-0500
TZNAME:CDT
DTSTART:20240310T080000
END:DAYLIGHT
BEGIN:STANDARD
TZOFFSETFROM:-0500
TZOFFSETTO:-0600
TZNAME:CST
DTSTART:20241103T070000
END:STANDARD
BEGIN:DAYLIGHT
TZOFFSETFROM:-0600
TZOFFSETTO:-0500
TZNAME:CDT
DTSTART:20250309T080000
END:DAYLIGHT
BEGIN:STANDARD
TZOFFSETFROM:-0500
TZOFFSETTO:-0600
TZNAME:CST
DTSTART:20251102T070000
END:STANDARD
END:VTIMEZONE
BEGIN:VEVENT
DTSTART;TZID=America/Chicago:20240320T100000
DTEND;TZID=America/Chicago:20240320T110000
DTSTAMP:20260423T170527
CREATED:20231106T232326Z
LAST-MODIFIED:20250421T201830Z
UID:10000347-1710928800-1710932400@washburnchamber.com
SUMMARY:Story Time
DESCRIPTION:Each Wednesday at 10 am the kids’ area in the upstairs becomes a place for storybook wonder and excitement when we host Toddler Tales/Story Time. \nPreschoolers and their moms and/or dads listen to a few great tales\, maybe sing a song and share a dance or two\, and generally just have fun. \nIt’s a great time for young families to interact and meet one another.
URL:https://washburnchamber.com/local-event/story-time/2024-03-20/
LOCATION:Washburn Public Library\, 307 Washington Ave.\, Washburn\, WI\, 54891
ATTACH;FMTTYPE=image/jpeg:https://washburnchamber.com/wp-content/uploads/Story-Time.jpg
END:VEVENT
BEGIN:VEVENT
DTSTART;TZID=America/Chicago:20240320T183000
DTEND;TZID=America/Chicago:20240320T193000
DTSTAMP:20260423T170527
CREATED:20240307T210754Z
LAST-MODIFIED:20240307T210754Z
UID:10000848-1710959400-1710963000@washburnchamber.com
SUMMARY:Wine Down Wednesday BINGO Night
DESCRIPTION:Wine Down Wednesday BINGO Night! Come wine down with a $5 glass of wine and play bingo. We play 5-6 rounds. Bingo cards are $2 each. Keep your card/s for the games. Come early for a seat. Enjoy a great glass of wine and a great time.
URL:https://washburnchamber.com/local-event/wine-down-wednesday-bingo-night/
LOCATION:Blue Wave Inn\, 2521 Lake Shore Drive West\, Ashland\, WI\, United States
ATTACH;FMTTYPE=image/jpeg:https://washburnchamber.com/wp-content/uploads/Washburn-Event-Logo-1365x590-2.jpg
END:VEVENT
END:VCALENDAR