BEGIN:VCALENDAR
VERSION:2.0
PRODID:-//Washburn Chamber of Commerce - ECPv6.15.20//NONSGML v1.0//EN
CALSCALE:GREGORIAN
METHOD:PUBLISH
X-ORIGINAL-URL:https://washburnchamber.com
X-WR-CALDESC:Events for Washburn Chamber of Commerce
REFRESH-INTERVAL;VALUE=DURATION:PT1H
X-Robots-Tag:noindex
X-PUBLISHED-TTL:PT1H
BEGIN:VTIMEZONE
TZID:America/Chicago
BEGIN:DAYLIGHT
TZOFFSETFROM:-0600
TZOFFSETTO:-0500
TZNAME:CDT
DTSTART:20230312T080000
END:DAYLIGHT
BEGIN:STANDARD
TZOFFSETFROM:-0500
TZOFFSETTO:-0600
TZNAME:CST
DTSTART:20231105T070000
END:STANDARD
BEGIN:DAYLIGHT
TZOFFSETFROM:-0600
TZOFFSETTO:-0500
TZNAME:CDT
DTSTART:20240310T080000
END:DAYLIGHT
BEGIN:STANDARD
TZOFFSETFROM:-0500
TZOFFSETTO:-0600
TZNAME:CST
DTSTART:20241103T070000
END:STANDARD
BEGIN:DAYLIGHT
TZOFFSETFROM:-0600
TZOFFSETTO:-0500
TZNAME:CDT
DTSTART:20250309T080000
END:DAYLIGHT
BEGIN:STANDARD
TZOFFSETFROM:-0500
TZOFFSETTO:-0600
TZNAME:CST
DTSTART:20251102T070000
END:STANDARD
END:VTIMEZONE
BEGIN:VEVENT
DTSTART;TZID=America/Chicago:20240322T170000
DTEND;TZID=America/Chicago:20240322T190000
DTSTAMP:20260423T220817
CREATED:20240307T223841Z
LAST-MODIFIED:20240307T223841Z
UID:10000855-1711126800-1711134000@washburnchamber.com
SUMMARY:BAFS presents Academy Award nominee "The Zone of Interest"
DESCRIPTION:BAFS presents Academy Award nominee “The Zone of Interest” \nJoin us for one of the most acclaimed films of 2023. Nominated for 5 Academy Awards\, including Best Picture\, The Zone of Interest is a historical drama written & directed by Jonathan Glazer. Filmmaker Steven Spielberg praises it as the best Holocaust movie ever made since his own Schindler’s List. \nFriday\, March 22nd @ 5 & 7:30 pm @ the Bay Theater in Ashland
URL:https://washburnchamber.com/local-event/bafs-presents-academy-award-nominee-the-zone-of-interest/2024-03-22/1/
LOCATION:Bay Theater\, 420 Main Street West\, Ashland\, WI\, 54806
ATTACH;FMTTYPE=image/jpeg:https://washburnchamber.com/wp-content/uploads/Washburn-Event-Logo-1365x590-2.jpg
END:VEVENT
BEGIN:VEVENT
DTSTART;TZID=America/Chicago:20240322T193000
DTEND;TZID=America/Chicago:20240322T213000
DTSTAMP:20260423T220817
CREATED:20240307T223841Z
LAST-MODIFIED:20240307T223841Z
UID:10000856-1711135800-1711143000@washburnchamber.com
SUMMARY:BAFS presents Academy Award nominee "The Zone of Interest"
DESCRIPTION:BAFS presents Academy Award nominee “The Zone of Interest” \nJoin us for one of the most acclaimed films of 2023. Nominated for 5 Academy Awards\, including Best Picture\, The Zone of Interest is a historical drama written & directed by Jonathan Glazer. Filmmaker Steven Spielberg praises it as the best Holocaust movie ever made since his own Schindler’s List. \nFriday\, March 22nd @ 5 & 7:30 pm @ the Bay Theater in Ashland
URL:https://washburnchamber.com/local-event/bafs-presents-academy-award-nominee-the-zone-of-interest/2024-03-22/2/
LOCATION:Bay Theater\, 420 Main Street West\, Ashland\, WI\, 54806
ATTACH;FMTTYPE=image/jpeg:https://washburnchamber.com/wp-content/uploads/Washburn-Event-Logo-1365x590-2.jpg
END:VEVENT
END:VCALENDAR