BEGIN:VCALENDAR
VERSION:2.0
PRODID:-//Washburn Chamber of Commerce - ECPv6.15.20//NONSGML v1.0//EN
CALSCALE:GREGORIAN
METHOD:PUBLISH
X-WR-CALNAME:Washburn Chamber of Commerce
X-ORIGINAL-URL:https://washburnchamber.com
X-WR-CALDESC:Events for Washburn Chamber of Commerce
REFRESH-INTERVAL;VALUE=DURATION:PT1H
X-Robots-Tag:noindex
X-PUBLISHED-TTL:PT1H
BEGIN:VTIMEZONE
TZID:America/Chicago
BEGIN:DAYLIGHT
TZOFFSETFROM:-0600
TZOFFSETTO:-0500
TZNAME:CDT
DTSTART:20250309T080000
END:DAYLIGHT
BEGIN:STANDARD
TZOFFSETFROM:-0500
TZOFFSETTO:-0600
TZNAME:CST
DTSTART:20251102T070000
END:STANDARD
BEGIN:DAYLIGHT
TZOFFSETFROM:-0600
TZOFFSETTO:-0500
TZNAME:CDT
DTSTART:20260308T080000
END:DAYLIGHT
BEGIN:STANDARD
TZOFFSETFROM:-0500
TZOFFSETTO:-0600
TZNAME:CST
DTSTART:20261101T070000
END:STANDARD
BEGIN:DAYLIGHT
TZOFFSETFROM:-0600
TZOFFSETTO:-0500
TZNAME:CDT
DTSTART:20270314T080000
END:DAYLIGHT
BEGIN:STANDARD
TZOFFSETFROM:-0500
TZOFFSETTO:-0600
TZNAME:CST
DTSTART:20271107T070000
END:STANDARD
END:VTIMEZONE
BEGIN:VEVENT
DTSTART;TZID=America/Chicago:20260424T173000
DTEND;TZID=America/Chicago:20260424T190000
DTSTAMP:20260424T081416
CREATED:20260416T123112Z
LAST-MODIFIED:20260416T123112Z
UID:10002875-1777051800-1777057200@washburnchamber.com
SUMMARY:2026 Giant Pumpkin Contest!
DESCRIPTION:Friday April 24th 5:30-7:00pm at South Shore Brewery Taphouse in Washburn. Seed buy-in & pick up – $20 for 2 seeds\n\nJoin us for the 2026 Washburn Pumpkin League for Amateur Gardeners Giant Pumpkin Contest!
URL:https://washburnchamber.com/local-event/2026-giant-pumpkin-contest/
LOCATION:South Shore Brewery Taphouse\, 532 W Bayfield St\, Washburn\, WI\, 54891\, United States
ATTACH;FMTTYPE=image/png:https://washburnchamber.com/wp-content/uploads/WASHBURN-PUMPKIN-LEAGUE-Amanda-Smith.png
END:VEVENT
END:VCALENDAR