BEGIN:VCALENDAR
VERSION:2.0
PRODID:-//Washburn Chamber of Commerce - ECPv6.15.20//NONSGML v1.0//EN
CALSCALE:GREGORIAN
METHOD:PUBLISH
X-ORIGINAL-URL:https://washburnchamber.com
X-WR-CALDESC:Events for Washburn Chamber of Commerce
REFRESH-INTERVAL;VALUE=DURATION:PT1H
X-Robots-Tag:noindex
X-PUBLISHED-TTL:PT1H
BEGIN:VTIMEZONE
TZID:America/Chicago
BEGIN:DAYLIGHT
TZOFFSETFROM:-0600
TZOFFSETTO:-0500
TZNAME:CDT
DTSTART:20230312T080000
END:DAYLIGHT
BEGIN:STANDARD
TZOFFSETFROM:-0500
TZOFFSETTO:-0600
TZNAME:CST
DTSTART:20231105T070000
END:STANDARD
BEGIN:DAYLIGHT
TZOFFSETFROM:-0600
TZOFFSETTO:-0500
TZNAME:CDT
DTSTART:20240310T080000
END:DAYLIGHT
BEGIN:STANDARD
TZOFFSETFROM:-0500
TZOFFSETTO:-0600
TZNAME:CST
DTSTART:20241103T070000
END:STANDARD
BEGIN:DAYLIGHT
TZOFFSETFROM:-0600
TZOFFSETTO:-0500
TZNAME:CDT
DTSTART:20250309T080000
END:DAYLIGHT
BEGIN:STANDARD
TZOFFSETFROM:-0500
TZOFFSETTO:-0600
TZNAME:CST
DTSTART:20251102T070000
END:STANDARD
END:VTIMEZONE
BEGIN:VEVENT
DTSTART;TZID=America/Chicago:20240507T120000
DTEND;TZID=America/Chicago:20240507T130000
DTSTAMP:20260420T031754
CREATED:20240307T192553Z
LAST-MODIFIED:20240307T192553Z
UID:10000845-1715083200-1715086800@washburnchamber.com
SUMMARY:Career Seminars
DESCRIPTION:Explore your career options with Northwood Tech Career Seminars \nJoin your local campus Career Specialist to explore your career options and learn what an education from Northwood Tech could do for you! Discover what career options are a match for your interests\, explore programs\, and the admissions process. There will be giveaways and the opportunity to win prizes. \nLearn more and register at NorthwoodTech.edu/events
URL:https://washburnchamber.com/local-event/career-seminars/2024-05-07/
END:VEVENT
BEGIN:VEVENT
DTSTART;TZID=America/Chicago:20240416T120000
DTEND;TZID=America/Chicago:20240416T130000
DTSTAMP:20260420T031754
CREATED:20240307T192553Z
LAST-MODIFIED:20240307T192553Z
UID:10000844-1713268800-1713272400@washburnchamber.com
SUMMARY:Career Seminars
DESCRIPTION:Explore your career options with Northwood Tech Career Seminars \nJoin your local campus Career Specialist to explore your career options and learn what an education from Northwood Tech could do for you! Discover what career options are a match for your interests\, explore programs\, and the admissions process. There will be giveaways and the opportunity to win prizes. \nLearn more and register at NorthwoodTech.edu/events
URL:https://washburnchamber.com/local-event/career-seminars/2024-04-16/
END:VEVENT
END:VCALENDAR